BEGIN:VCALENDAR
VERSION:2.0
PRODID:-//ChamberMaster//Event Calendar 2.0//EN
METHOD:PUBLISH
X-PUBLISHED-TTL:P3D
REFRESH-INTERVAL:P3D
CALSCALE:GREGORIAN
BEGIN:VEVENT
DTSTART:20150929T140000Z
DTEND:20150929T143000Z
X-MICROSOFT-CDO-ALLDAYEVENT:FALSE
SUMMARY:Andy's 99
DESCRIPTION:Ribbon Cutting celebration for new business\n\nAndrew Huynh - owner
X-ALT-DESC;FMTTYPE=text/html:Ribbon Cutting celebration for new business\n\nAndrew Huynh - owner
LOCATION:37 Midway\, Bristol\, VA (located in the Kroger Shopping Center)
UID:e.2564.779111
SEQUENCE:3
DTSTAMP:20260424T002255Z
URL:http://bristolchambertn.chambermaster.com/events/details/andy-s-99-09-29-2015-779111
END:VEVENT

END:VCALENDAR
