BEGIN:VCALENDAR
VERSION:2.0
PRODID:-//ChamberMaster//Event Calendar 2.0//EN
METHOD:PUBLISH
X-PUBLISHED-TTL:P3D
REFRESH-INTERVAL:P3D
CALSCALE:GREGORIAN
BEGIN:VEVENT
DTSTART:20150424T160000Z
DTEND:20150424T163000Z
X-MICROSOFT-CDO-ALLDAYEVENT:FALSE
SUMMARY:Boot Barn
DESCRIPTION:Ribbon Cutting Celebration including catering\, discounts and giveaways
X-ALT-DESC;FMTTYPE=text/html:Ribbon Cutting Celebration including catering\, discounts and giveaways
LOCATION:416 Pinnacle Parkway - The Pinnacle\, Bristol \, TN
UID:e.2564.751271
SEQUENCE:3
DTSTAMP:20260421T051133Z
URL:http://bristolchambertn.chambermaster.com/events/details/boot-barn-04-24-2015-751271
END:VEVENT

END:VCALENDAR
