BEGIN:VCALENDAR
VERSION:2.0
PRODID:-//ChamberMaster//Event Calendar 2.0//EN
METHOD:PUBLISH
X-PUBLISHED-TTL:P3D
REFRESH-INTERVAL:P3D
CALSCALE:GREGORIAN
BEGIN:VEVENT
DTSTART:20150306T123000Z
DTEND:20150306T133000Z
X-MICROSOFT-CDO-ALLDAYEVENT:FALSE
SUMMARY:FFBB - BTES
DESCRIPTION:
X-ALT-DESC;FMTTYPE=text/html:
LOCATION:King University - Maclellan Dining Hall
UID:e.2564.740865
SEQUENCE:3
DTSTAMP:20260421T235745Z
URL:http://bristolchambertn.chambermaster.com/events/details/ffbb-btes-03-06-2015-740865
END:VEVENT

END:VCALENDAR
