BEGIN:VCALENDAR
VERSION:2.0
PRODID:-//ChamberMaster//Event Calendar 2.0//EN
METHOD:PUBLISH
X-PUBLISHED-TTL:P3D
REFRESH-INTERVAL:P3D
CALSCALE:GREGORIAN
BEGIN:VEVENT
DTSTART:20141107T121500Z
DTEND:20141107T133000Z
X-MICROSOFT-CDO-ALLDAYEVENT:FALSE
SUMMARY:FFBB- Burke\, Powers\, & Harty
DESCRIPTION:First Friday Business Briefing breakfast sponsored by Burke\, Powers\, and Harty.  \nBreakfast is cafeteria style with the doors opening at 7:15am and the program begins promptly at 7:30am and adjourns at 8:30am.\n\nFFBB networking event sponsored by Burke\, Powers\, & Harty
X-ALT-DESC;FMTTYPE=text/html:First Friday Business Briefing breakfast sponsored by Burke\, Powers\, and Harty.  \nBreakfast is cafeteria style with the doors opening at 7:15am and the program begins promptly at 7:30am and adjourns at 8:30am.\n\nFFBB networking event sponsored by Burke\, Powers\, & Harty
LOCATION:On the King University campus -- held in the Maclellan Hall (student dining hall)
UID:e.2564.698123
SEQUENCE:3
DTSTAMP:20260425T115856Z
URL:http://bristolchambertn.chambermaster.com/events/details/ffbb-burke-powers-harty-11-07-2014-698123
END:VEVENT

END:VCALENDAR
