BEGIN:VCALENDAR
VERSION:2.0
PRODID:-//ChamberMaster//Event Calendar 2.0//EN
METHOD:PUBLISH
X-PUBLISHED-TTL:P3D
REFRESH-INTERVAL:P3D
CALSCALE:GREGORIAN
BEGIN:VEVENT
DTSTART:20140905T111500Z
DTEND:20140905T123000Z
X-MICROSOFT-CDO-ALLDAYEVENT:FALSE
SUMMARY:FFBB - BVU
DESCRIPTION:First Friday Business Briefing breakfast sponsored by .  \nBreakfast is cafeteria style with the doors opening at 7:15am and the program begins promptly at 7:30am and adjourns at 8:30am.
X-ALT-DESC;FMTTYPE=text/html:First Friday Business Briefing breakfast sponsored by .  \nBreakfast is cafeteria style with the doors opening at 7:15am and the program begins promptly at 7:30am and adjourns at 8:30am.\n
LOCATION:On the King University campus -- held in the Maclellan Hall (student dining hall)
UID:e.2564.698121
SEQUENCE:3
DTSTAMP:20260423T191711Z
URL:http://bristolchambertn.chambermaster.com/events/details/ffbb-bvu-09-05-2014-698121
END:VEVENT

END:VCALENDAR
