BEGIN:VCALENDAR
VERSION:2.0
PRODID:-//ChamberMaster//Event Calendar 2.0//EN
METHOD:PUBLISH
X-PUBLISHED-TTL:P3D
REFRESH-INTERVAL:P3D
CALSCALE:GREGORIAN
BEGIN:VEVENT
DTSTART:20160616T230000Z
DTEND:20160617T000000Z
X-MICROSOFT-CDO-ALLDAYEVENT:FALSE
SUMMARY:Free Drone Workshop
DESCRIPTION:Northeast State will sponsor a free drone workshop at its Bristol campus on June 16 from 7 - 8 p.m. Drones have great potential in the fields of search and rescue\, real estate\, agriculture\, home delivery\, security\, and photography to name a few. The workshop will describe the current federal aviation regulations governing the operation of drones and the upcoming changes that will allow individuals to become a commercial drone operators.
X-ALT-DESC;FMTTYPE=text/html:Northeast State will sponsor a free drone workshop at its Bristol campus on June 16 from 7 - 8 p.m. Drones have great potential in the fields of search and rescue\, real estate\, agriculture\, home delivery\, security\, and photography to name a few. The workshop will describe the current federal aviation regulations governing the operation of drones and the upcoming changes that will allow individuals to become a commercial drone operators.
LOCATION:620 State St.
UID:e.2564.789207
SEQUENCE:3
DTSTAMP:20260421T074101Z
URL:http://bristolchambertn.chambermaster.com/events/details/free-drone-workshop-06-16-2016-789207
END:VEVENT

END:VCALENDAR
