BEGIN:VCALENDAR
VERSION:2.0
PRODID:-//ChamberMaster//Event Calendar 2.0//EN
METHOD:PUBLISH
X-PUBLISHED-TTL:P3D
REFRESH-INTERVAL:P3D
CALSCALE:GREGORIAN
BEGIN:VEVENT
DTSTART:20141118T164500Z
DTEND:20141118T180000Z
X-MICROSOFT-CDO-ALLDAYEVENT:FALSE
SUMMARY:iPhone 101 Lunch & Learn
DESCRIPTION:Join Verizon Wireless as they answer all your questions about using an iPhone. All versions of iPhones will be covered in the 1-hour presentation. Lunch is provided beginning at 11:45\n\nMembers: Complementary\nNon-Members: $15
X-ALT-DESC;FMTTYPE=text/html:Join Verizon Wireless as they answer all your questions about using an iPhone. All versions of iPhones will be covered in the 1-hour presentation. Lunch is provided beginning at 11:45\n\nMembers: Complementary\nNon-Members: $15
LOCATION:Board Room
UID:e.2564.731624
SEQUENCE:3
DTSTAMP:20260424T173335Z
URL:http://bristolchambertn.chambermaster.com/events/details/iphone-101-lunch-learn-11-18-2014-731624
END:VEVENT

END:VCALENDAR
