BEGIN:VCALENDAR
VERSION:2.0
PRODID:-//ChamberMaster//Event Calendar 2.0//EN
METHOD:PUBLISH
X-PUBLISHED-TTL:P3D
REFRESH-INTERVAL:P3D
CALSCALE:GREGORIAN
BEGIN:VEVENT
DTSTART:20140225T133000Z
DTEND:20140225T143000Z
X-MICROSOFT-CDO-ALLDAYEVENT:FALSE
SUMMARY:Performance Appraisals
DESCRIPTION:This session is for HR Managers\, Department Supervisors\, Business Owners. Learn best practices to conduct Employee Performance Appraisals. \n\nMembers: FREE\nNon-Members: $35\n\nRSVP by 2/21
X-ALT-DESC;FMTTYPE=text/html:This session is for HR Managers\, Department Supervisors\, Business Owners. Learn best practices to conduct Employee Performance Appraisals. \n\nMembers: FREE\nNon-Members: $35\n\nRSVP by 2/21
LOCATION:Chamber Board Room
UID:e.2564.706615
SEQUENCE:3
DTSTAMP:20260425T192008Z
URL:http://bristolchambertn.chambermaster.com/events/details/performance-appraisals-02-25-2014-706615
END:VEVENT

END:VCALENDAR
