BEGIN:VCALENDAR
VERSION:2.0
PRODID:-//ChamberMaster//Event Calendar 2.0//EN
METHOD:PUBLISH
X-PUBLISHED-TTL:P3D
REFRESH-INTERVAL:P3D
CALSCALE:GREGORIAN
BEGIN:VEVENT
DTSTART;VALUE=DATE:20200113
DTEND;VALUE=DATE:20200118
TRANSP:TRANSPARENT
X-MICROSOFT-CDO-ALLDAYEVENT:TRUE
SUMMARY:Project
DESCRIPTION:Project Voice takes place January 13 17\, 2020 in Chattanooga\, Tennessee\, The Voice Technology Mega-Event and the #1 Event for Voice Tech and AI in America. \n\nProject Voice is part of the popular Voice First Events series\, culminating a series of vertical-oriented voice tech events into a singular mega-event for the voice-first community. \n\nProject Voice will gather together 3\,000+ Executives\, Developers\, Marketers\, Designers\, Strategists\, Engineers\, VCs\, Media\, Analysts from across 15 countries sharing best practices\, gathering intelligence on the various voice ecosystems\, and networking across a diversity of sectors and industries. \n\nPresented by Microsoft\, Amazon\, Google and Samsung and produced by podcast network VoiceFirst.FM\, Project Voice will be a uniquely valuable\, must-attend event.
X-ALT-DESC;FMTTYPE=text/html:<p><span style="font-size:12px"><span style="font-family:arial\,helvetica\,sans-serif"><span style="color:rgb(34\, 34\, 34)">Project Voice takes place January 13&ndash\;17\, 2020 in Chattanooga\, Tennessee\, The Voice Technology Mega-Event and the #1 Event for Voice Tech and AI in America.&nbsp\;</span></span></span></p>\n\n<p><span style="font-size:12px"><span style="font-family:arial\,helvetica\,sans-serif"><span style="color:rgb(34\, 34\, 34)">Project Voice is part of the popular Voice First Events series\, culminating a series of vertical-oriented voice tech events into a singular mega-event for the voice-first community.&nbsp\;</span></span></span></p>\n\n<p><span style="font-size:12px"><span style="font-family:arial\,helvetica\,sans-serif"><span style="color:rgb(34\, 34\, 34)">Project Voice will gather together 3\,000+ Executives\, Developers\, Marketers\, Designers\, Strategists\, Engineers\, VCs\, Media\, Analysts from across 15 countries sharing best practices\, gathering intelligence on the various voice ecosystems\, and networking across a diversity of sectors and industries.&nbsp\;</span></span></span></p>\n\n<p><span style="font-size:12px"><span style="font-family:arial\,helvetica\,sans-serif"><span style="color:rgb(34\, 34\, 34)">Presented by Microsoft\, Amazon\, Google and Samsung and produced by podcast network VoiceFirst.FM\, Project Voice will be a uniquely valuable\, must-attend event.&nbsp\;</span></span></span></p>\n
LOCATION:Chattanooga Convention Center 1 Carter Plz\, Chattanooga\, TN 37402
UID:e.2564.794156
SEQUENCE:3
DTSTAMP:20260420T190730Z
URL:http://bristolchambertn.chambermaster.com/events/details/project-794156
END:VEVENT

END:VCALENDAR
