BEGIN:VCALENDAR
VERSION:2.0
PRODID:-//ChamberMaster//Event Calendar 2.0//EN
METHOD:PUBLISH
X-PUBLISHED-TTL:P3D
REFRESH-INTERVAL:P3D
CALSCALE:GREGORIAN
BEGIN:VEVENT
DTSTART:20151006T123000Z
DTEND:20151006T160000Z
X-MICROSOFT-CDO-ALLDAYEVENT:FALSE
SUMMARY:Quickbooks Advanced
DESCRIPTION:This course will take you to the next level of using Quickbooks for your business. \n"	Using Other QuickBooks Account (working with credit card accounts\, depreciation accounts\, and asset and liability accounts)\n"	Setting up Inventory\n"	Tracking & Paying Sales Tax\n"	Customizing Forms & Writing QuickBooks Letters\n\nLed by Crystal McDuffie of Stanfield\, Thomas & Associates.\nPrerequisite for this course is Quickbooks for Beginners.\nMembers: Included with Membership\nNon-Members: $35\nRSVP by: Oct. 2\nCorp Sponsor: Elliott Lawson & Minor\, P.C.\nDay Sponsors: Stanfield\, Thomas & Associates\, LLC & Northeast State at Bristol
X-ALT-DESC;FMTTYPE=text/html:This course will take you to the next level of using Quickbooks for your business. \n"	Using Other QuickBooks Account (working with credit card accounts\, depreciation accounts\, and asset and liability accounts)\n"	Setting up Inventory\n"	Tracking & Paying Sales Tax\n"	Customizing Forms & Writing QuickBooks Letters\n\nLed by Crystal McDuffie of Stanfield\, Thomas & Associates.\nPrerequisite for this course is Quickbooks for Beginners.\nMembers: Included with Membership\nNon-Members: $35\nRSVP by: Oct. 2\nCorp Sponsor: Elliott Lawson & Minor\, P.C.\nDay Sponsors: Stanfield\, Thomas & Associates\, LLC & Northeast State at Bristol
LOCATION:Northeast State Bristol 3rd Floor 620 State Street Bristol\, TN
UID:e.2564.764781
SEQUENCE:3
DTSTAMP:20260422T214852Z
URL:http://bristolchambertn.chambermaster.com/events/details/quickbooks-advanced-10-06-2015-764781
END:VEVENT

END:VCALENDAR
