BEGIN:VCALENDAR
VERSION:2.0
PRODID:-//ChamberMaster//Event Calendar 2.0//EN
METHOD:PUBLISH
X-PUBLISHED-TTL:P3D
REFRESH-INTERVAL:P3D
CALSCALE:GREGORIAN
BEGIN:VEVENT
DTSTART:20170422T003000Z
DTEND:20170422T033000Z
X-MICROSOFT-CDO-ALLDAYEVENT:FALSE
SUMMARY:Race Day Rides @BMS
DESCRIPTION:Speedway Children's Charities together with Seat Time Racing School will be offering Race Day Rides @ BMS. Experience 6 screaming fast laps around "the world's fastest 1/2 mile" track! Event to benefit Speedway Children's Charities. Call 704-998-1957 to reserve.
X-ALT-DESC;FMTTYPE=text/html:Speedway Children&#39\;s Charities together with Seat Time Racing School will be offering Race Day Rides @ BMS. Experience 6 screaming fast laps around &quot\;the world&#39\;s fastest 1/2 mile&quot\; track! Event to benefit Speedway Children&#39\;s Charities. Call 704-998-1957 to reserve.
LOCATION:Bristol Motor Speedway
UID:e.2564.790081
SEQUENCE:3
DTSTAMP:20260425T212306Z
URL:http://bristolchambertn.chambermaster.com/events/details/race-day-rides-bms-790081
END:VEVENT

END:VCALENDAR
