BEGIN:VCALENDAR
VERSION:2.0
PRODID:-//ChamberMaster//Event Calendar 2.0//EN
METHOD:PUBLISH
X-PUBLISHED-TTL:P3D
REFRESH-INTERVAL:P3D
CALSCALE:GREGORIAN
BEGIN:VEVENT
DTSTART:20140408T140000Z
DTEND:20140408T143000Z
X-MICROSOFT-CDO-ALLDAYEVENT:FALSE
SUMMARY:Smoky Mountain Vapor & Java Cafe
DESCRIPTION:Ribbon Cutting with coffee and food samplings\n\n(Green ribbon ordered)
X-ALT-DESC;FMTTYPE=text/html:Ribbon Cutting with coffee and food samplings\n\n(Green ribbon ordered)
LOCATION:100 Linden Drive\, Suite 9 Bristol\, VA Exit 7
UID:e.2564.714155
SEQUENCE:3
DTSTAMP:20260423T224949Z
URL:http://bristolchambertn.chambermaster.com/events/details/smoky-mountain-vapor-java-cafe-04-08-2014-714155
END:VEVENT

END:VCALENDAR
