BEGIN:VCALENDAR
VERSION:2.0
PRODID:-//ChamberMaster//Event Calendar 2.0//EN
METHOD:PUBLISH
X-PUBLISHED-TTL:P3D
REFRESH-INTERVAL:P3D
CALSCALE:GREGORIAN
BEGIN:VEVENT
DTSTART:20191214T170000Z
DTEND:20191214T190000Z
X-MICROSOFT-CDO-ALLDAYEVENT:FALSE
SUMMARY:The Nutcracker presented by Bristol Ballet
DESCRIPTION:Bristol Ballet's presentation of this beloved ballet is always a highlight of the Christmas season! Professional guest artists enhance this quality production\, with over 60 area cast members. See the guests at the party\, the battle between the wretched Rat Queen and the Nutcracker\, and Clara's journey through the magical snow forest to the Land of Sweets. Savor favorites like the Sugar Plum Fairy and Waltz of the Flowers\, with some original twists like Mother Maybelle Carter and the Carter Sisters\, complete with fiddles and banjos! Pupcracker\, a crowd favorite from last year\, returns at the Saturday noon performance. The cast includes some four-legged cast members\, and you might find your "forever" dog among the shelter pups available for adoption in the lobby. Nutcracker is a perennial favorite of ours\, and it wouldn't be Christmas in Bristol without it.
X-ALT-DESC;FMTTYPE=text/html:<span style="font-family: altivo\, sans-serif\; font-size: 14px\; text-align: justify\; background-color: rgb(255\, 255\, 255)\;">Bristol Ballet&rsquo\;s presentation of this beloved ballet is always a highlight of the Christmas season! Professional guest artists enhance this quality production\, with over 60 area cast members. See the guests at the party\, the battle between the wretched Rat Queen and the Nutcracker\, and Clara&rsquo\;s journey through the magical snow forest to the Land of Sweets. Savor favorites like the Sugar Plum Fairy and Waltz of the Flowers\, with some original twists like Mother Maybelle Carter and the Carter Sisters\, complete with fiddles and banjos! Pupcracker\, a crowd favorite from last year\, returns at the Saturday noon performance. The cast includes some four-legged cast members\, and you might find your &ldquo\;forever&rdquo\; dog among the shelter pups available for adoption in the lobby. Nutcracker is a perennial favorite of ours\, and it wouldn&rsquo\;t be Christmas in Bristol without it.</span>
LOCATION:Paramount Bristol
UID:e.2564.794203
SEQUENCE:3
DTSTAMP:20260420T212813Z
URL:http://bristolchambertn.chambermaster.com/events/details/the-nutcracker-presented-by-bristol-ballet-794203
END:VEVENT

END:VCALENDAR
